BEGIN:VCALENDAR
VERSION:2.0
PRODID:GlueUp
CALSCALE:GREGORIAN
BEGIN:VTIMEZONE
TZID:UTC
BEGIN:STANDARD
DTSTART:19700101T000000
TZOFFSETFROM:+0000
TZOFFSETTO:+0000
TZNAME:UTC
END:STANDARD
END:VTIMEZONE
BEGIN:VEVENT
TZ:+00
ORGANIZER;CN=Vicky Xi:MAILTO:vicky@startup-factory.biz
UID:45684-1776776519@https://smartfactorykunshan.glueup.cn
DTSTAMP:20260421T130159Z
DTSTART:20250213T010000Z
DTEND:20270629T010000Z
SUMMARY:Welcome to SFK Manufacturers Champions Club
DESCRIPTION:Welcome to SFK Manufacturers Champions Club by Smart Factory Kunshan\n\nFeb 13, 2025 to Jun 29, 2027(GMT+8)\n\nFor more information, click here: https://smartfactorykunshan.glueup.cn/my/events/45684
LOCATION:
BEGIN:VALARM
TRIGGER:-PT48H
REPEAT:4
DURATION:PT30M
ACTION:DISPLAY
END:VALARM
END:VEVENT
END:VCALENDAR