BEGIN:VCALENDAR
VERSION:2.0
PRODID:GlueUp
CALSCALE:GREGORIAN
BEGIN:VTIMEZONE
TZID:UTC
BEGIN:STANDARD
DTSTART:19700101T000000
TZOFFSETFROM:+0000
TZOFFSETTO:+0000
TZNAME:UTC
END:STANDARD
END:VTIMEZONE
BEGIN:VEVENT
TZ:+00
ORGANIZER;CN=Bernd Reitmeier:MAILTO:bernd.reitmeier@startup-factory.biz
UID:41309-1776801339@https://smartfactorykunshan.glueup.cn
DTSTAMP:20260421T195539Z
DTSTART:20230922T070000Z
DTEND:20230922T130000Z
SUMMARY:Startup Factory Familientreffen 2023 Duesseldorf
DESCRIPTION:Startup Factory Familientreffen 2023 Duesseldorf by Smart Factory Kunshan\n\nSep 22, 2023 (09:00 - 15:00)(GMT+2)\n\nFor more information, click here: https://smartfactorykunshan.glueup.cn/my/events/41309
LOCATION:Radisson Blu Conference Hotel, Düsseldorf - Karl-Arnold-Platz 5 Düsseldorf - Nordrhein-Westfalen - Germany
BEGIN:VALARM
TRIGGER:-PT48H
REPEAT:4
DURATION:PT30M
ACTION:DISPLAY
END:VALARM
END:VEVENT
END:VCALENDAR