BEGIN:VCALENDAR
VERSION:2.0
PRODID:GlueUp
CALSCALE:GREGORIAN
BEGIN:VTIMEZONE
TZID:UTC
BEGIN:STANDARD
DTSTART:19700101T000000
TZOFFSETFROM:+0000
TZOFFSETTO:+0000
TZNAME:UTC
END:STANDARD
END:VTIMEZONE
BEGIN:VEVENT
TZ:+00
ORGANIZER;CN=Bernd Reitmeier:MAILTO:bernd.reitmeier@startup-factory.biz
UID:41844-1776801263@https://smartfactorykunshan.glueup.cn
DTSTAMP:20260421T195423Z
DTSTART:20231127T010000Z
DTEND:20231128T090000Z
SUMMARY:Maier Group - Asia Sales Meeting
DESCRIPTION:Maier Group - Asia Sales Meeting by Smart Factory Kunshan\n\nNov 27 & 28, 2023(GMT+8)\n\nFor more information, click here: https://smartfactorykunshan.glueup.cn/my/events/41844
LOCATION:
BEGIN:VALARM
TRIGGER:-PT48H
REPEAT:4
DURATION:PT30M
ACTION:DISPLAY
END:VALARM
END:VEVENT
END:VCALENDAR