BEGIN:VCALENDAR
VERSION:2.0
PRODID:GlueUp
CALSCALE:GREGORIAN
BEGIN:VTIMEZONE
TZID:UTC
BEGIN:STANDARD
DTSTART:19700101T000000
TZOFFSETFROM:+0000
TZOFFSETTO:+0000
TZNAME:UTC
END:STANDARD
END:VTIMEZONE
BEGIN:VEVENT
TZ:+00
ORGANIZER;CN=APIS:MAILTO:service@apis-iq.cn
UID:39423-1776801054@https://smartfactorykunshan.glueup.cn
DTSTAMP:20260421T195054Z
DTSTART:20230523T010000Z
DTEND:20230525T090000Z
SUMMARY:APIS IQ软件V7.0公开课培训
DESCRIPTION:Smart Factory Kunshan发布活动APIS IQ软件V7.0公开课培训\n\n5月 23 - 25，2023(GMT+8)\n\n更多信息，访问https://smartfactorykunshan.glueup.cn/my/events/39423
LOCATION:昆山蕴启工业智能制造实验室 - 中国江苏昆山张浦镇德浦路692号
BEGIN:VALARM
TRIGGER:-PT48H
REPEAT:4
DURATION:PT30M
ACTION:DISPLAY
END:VALARM
END:VEVENT
END:VCALENDAR