BEGIN:VCALENDAR
VERSION:2.0
PRODID:GlueUp
CALSCALE:GREGORIAN
BEGIN:VTIMEZONE
TZID:UTC
BEGIN:STANDARD
DTSTART:19700101T000000
TZOFFSETFROM:+0000
TZOFFSETTO:+0000
TZNAME:UTC
END:STANDARD
END:VTIMEZONE
BEGIN:VEVENT
TZ:+00
ORGANIZER;CN=APIS:MAILTO:service@apis-iq.cn
UID:38077-1776806603@https://smartfactorykunshan.glueup.cn
DTSTAMP:20260421T212323Z
DTSTART:20221114T010000Z
DTEND:20221115T090000Z
SUMMARY:APIS IQ Software V7.0 Open Class Training
DESCRIPTION:APIS IQ Software V7.0 Open Class Training by Smart Factory Kunshan\n\nNov 14 & 15, 2022(GMT+8)\n\nFor more information, click here: https://smartfactorykunshan.glueup.cn/my/events/38077
LOCATION:Smart Factory Kunshan - No.692 - Depu Road - Zhangpu Town Kunshan - Jiangsu - China
BEGIN:VALARM
TRIGGER:-PT48H
REPEAT:4
DURATION:PT30M
ACTION:DISPLAY
END:VALARM
END:VEVENT
END:VCALENDAR